BEGIN:VCALENDAR
VERSION:2.0
PRODID:-//wp-events-plugin.com//7.2.3.1//EN
TZID:Europe/Berlin
X-WR-TIMEZONE:Europe/Berlin
BEGIN:VEVENT
UID:2019@ev-kirchengemeinde-schwanheim.de
DTSTART;TZID=Europe/Berlin:20250308T100000
DTEND;TZID=Europe/Berlin:20250308T130000
DTSTAMP:20250214T072147Z
URL:https://www.ev-kirchengemeinde-schwanheim.de/terminkalender/weltgebets
 tag-mit-kindern
SUMMARY:Weltgebetstag mit Kindern - Haus der Begegnung - 8 März 25 10:00
DESCRIPTION:WGT_Familien_2025_Plakat
ATTACH;FMTTYPE=image/jpeg:https://www.ev-kirchengemeinde-schwanheim.de/wp-
 content/uploads/2025/02/Unbenannt.jpg
CATEGORIES:Termine zum Kindergottesdienst
LOCATION:Haus der Begegnung\, Rohrheimer Str. 27\, Bensheim-Schwanheim\, 64
 625 \, Deutschland
GEO:49.69673;8.569726800000012
X-APPLE-STRUCTURED-LOCATION;VALUE=URI;X-ADDRESS=Rohrheimer Str. 27\, Benshe
 im-Schwanheim\, 64625 \, Deutschland;X-APPLE-RADIUS=100;X-TITLE=Haus der B
 egegnung:geo:49.69673,8.569726800000012
END:VEVENT
BEGIN:VTIMEZONE
TZID:Europe/Berlin
X-LIC-LOCATION:Europe/Berlin
BEGIN:STANDARD
DTSTART:20241027T020000
TZOFFSETFROM:+0200
TZOFFSETTO:+0100
TZNAME:CET
END:STANDARD
END:VTIMEZONE
END:VCALENDAR