BEGIN:VCALENDAR
VERSION:2.0
PRODID:-//wp-events-plugin.com//7.2.3.1//EN
TZID:Europe/Berlin
X-WR-TIMEZONE:Europe/Berlin
BEGIN:VEVENT
UID:1086@ev-kirchengemeinde-schwanheim.de
DTSTART;TZID=Europe/Berlin:20171210T180000
DTEND;TZID=Europe/Berlin:20171210T184500
DTSTAMP:20171111T102822Z
URL:https://www.ev-kirchengemeinde-schwanheim.de/terminkalender/texte-bei-
 kerzenschein-3
SUMMARY:Texte bei Kerzenschein - Ev. Kirche - 10 Dez. 17 18:00
DESCRIPTION:Sonja Ahlheim verliest zu angenehmer Musik im Schein der Kerzen
  in der Kirche in Langwaden zeitgemäße Texte.
CATEGORIES:sonstige Veranstaltung
LOCATION:Ev. Kirche\, Jägersburger Str.\, Bensheim - Langwaden\, Hessen\, 
 64625\, Deutschland
GEO:49.7177108;8.55053399999997
X-APPLE-STRUCTURED-LOCATION;VALUE=URI;X-ADDRESS=Jägersburger Str.\, Benshe
 im - Langwaden\, Hessen\, 64625\, Deutschland;X-APPLE-RADIUS=100;X-TITLE=E
 v. Kirche:geo:49.7177108,8.55053399999997
END:VEVENT
BEGIN:VTIMEZONE
TZID:Europe/Berlin
X-LIC-LOCATION:Europe/Berlin
BEGIN:STANDARD
DTSTART:20171029T020000
TZOFFSETFROM:+0200
TZOFFSETTO:+0100
TZNAME:CET
END:STANDARD
END:VTIMEZONE
END:VCALENDAR