BEGIN:VCALENDAR
VERSION:2.0
PRODID:-//wp-events-plugin.com//7.2.3.1//EN
TZID:Europe/Berlin
X-WR-TIMEZONE:Europe/Berlin
BEGIN:VEVENT
UID:934@ev-kirchengemeinde-schwanheim.de
DTSTART;TZID=Europe/Berlin:20170301T140000
DTEND;TZID=Europe/Berlin:20170301T160000
DTSTAMP:20170120T211310Z
URL:https://www.ev-kirchengemeinde-schwanheim.de/terminkalender/spielenach
 mittag
SUMMARY:Spielenachmittag - Evangelische Kirche Einhausen - 1 März 17 14:00
DESCRIPTION:
CATEGORIES:Termine Senioren
LOCATION:Evangelische Kirche Einhausen\, Friedhofstr. 9\, Einhausen\, 64683
 \, Deutschland
GEO:49.69673;8.569727
X-APPLE-STRUCTURED-LOCATION;VALUE=URI;X-ADDRESS=Friedhofstr. 9\, Einhausen\
 , 64683\, Deutschland;X-APPLE-RADIUS=100;X-TITLE=Evangelische Kirche Einha
 usen:geo:49.69673,8.569727
END:VEVENT
BEGIN:VTIMEZONE
TZID:Europe/Berlin
X-LIC-LOCATION:Europe/Berlin
BEGIN:STANDARD
DTSTART:20161030T020000
TZOFFSETFROM:+0200
TZOFFSETTO:+0100
TZNAME:CET
END:STANDARD
END:VTIMEZONE
END:VCALENDAR