BEGIN:VCALENDAR
VERSION:2.0
PRODID:-//wp-events-plugin.com//7.2.3.1//EN
TZID:Europe/Berlin
X-WR-TIMEZONE:Europe/Berlin
BEGIN:VEVENT
UID:968@ev-kirchengemeinde-schwanheim.de
DTSTART;TZID=Europe/Berlin:20170329T183000
DTEND;TZID=Europe/Berlin:20170329T191500
DTSTAMP:20170129T210943Z
URL:https://www.ev-kirchengemeinde-schwanheim.de/terminkalender/passionsan
 dacht-18
SUMMARY:Passionsandacht - Betsaal - 29 März 17 18:30
DESCRIPTION:
CATEGORIES:Gottesdienst
LOCATION:Betsaal\, Hauptstr. 6\, Zwingenberg - Rodau\, Hessen\, 64673\, Deu
 tschland
GEO:49.71897500000001;8.57905299999993
X-APPLE-STRUCTURED-LOCATION;VALUE=URI;X-ADDRESS=Hauptstr. 6\, Zwingenberg -
  Rodau\, Hessen\, 64673\, Deutschland;X-APPLE-RADIUS=100;X-TITLE=Betsaal:g
 eo:49.71897500000001,8.57905299999993
END:VEVENT
BEGIN:VTIMEZONE
TZID:Europe/Berlin
X-LIC-LOCATION:Europe/Berlin
BEGIN:DAYLIGHT
DTSTART:20170326T030000
TZOFFSETFROM:+0100
TZOFFSETTO:+0200
TZNAME:CEST
END:DAYLIGHT
END:VTIMEZONE
END:VCALENDAR