BEGIN:VCALENDAR
VERSION:2.0
PRODID:-//wp-events-plugin.com//7.2.3.1//EN
TZID:Europe/Berlin
X-WR-TIMEZONE:Europe/Berlin
BEGIN:VEVENT
UID:1025@ev-kirchengemeinde-schwanheim.de
DTSTART;TZID=Europe/Berlin:20171107T200000
DTEND;TZID=Europe/Berlin:20171107T210000
DTSTAMP:20170604T162154Z
URL:https://www.ev-kirchengemeinde-schwanheim.de/terminkalender/lobpreisgo
 ttesdienst-48
SUMMARY:Lobpreisgottesdienst - Kapelle - 7 Nov. 17 20:00
DESCRIPTION:
CATEGORIES:Gottesdienst
LOCATION:Kapelle\, Rodauer Str. \, Zwingenberg - Rodau\, Hessen\, 64673\, D
 eutschland
GEO:49.71906;8.58139
X-APPLE-STRUCTURED-LOCATION;VALUE=URI;X-ADDRESS=Rodauer Str. \, Zwingenberg
  - Rodau\, Hessen\, 64673\, Deutschland;X-APPLE-RADIUS=100;X-TITLE=Kapelle
 :geo:49.71906,8.58139
END:VEVENT
BEGIN:VTIMEZONE
TZID:Europe/Berlin
X-LIC-LOCATION:Europe/Berlin
BEGIN:STANDARD
DTSTART:20171029T020000
TZOFFSETFROM:+0200
TZOFFSETTO:+0100
TZNAME:CET
END:STANDARD
END:VTIMEZONE
END:VCALENDAR