BEGIN:VCALENDAR
VERSION:2.0
PRODID:-//wp-events-plugin.com//7.2.3.1//EN
TZID:Europe/Berlin
X-WR-TIMEZONE:Europe/Berlin
BEGIN:VEVENT
UID:1387@ev-kirchengemeinde-schwanheim.de
DTSTART;TZID=Europe/Berlin:20191211T193000
DTEND;TZID=Europe/Berlin:20191211T210000
DTSTAMP:20191121T155026Z
URL:https://www.ev-kirchengemeinde-schwanheim.de/terminkalender/konzert-sw
 inging-christmas
SUMMARY:Konzert S(w)inging Christmas - evangelische  Kirche - 11 Dez. 19 19
 :30
DESCRIPTION:Der Chor Wings of Joy bereitet sich derzeit auf das im achten J
 ahr in der Reihe „S(w)inging Christmas“ stattfindende Weihnachtskonzer
 t  vor. Termin ist am Mittwoch\, 11. Dezember\, um 19.30 Uhr in der Schwan
 heimer Kirche.\n\nChorleiterin Lisa Hofstetter arbeitet derzeit mit den S
 ängerinnen und Sängern der Musikschule wieder an einer abwechslungsreich
 en Mischung aus Weihnachtsliedern.\n\nAus Spanien und England kommen eher 
 traditionelle\, aber eingängige und schwungvolle Weisen\, während ein is
 raelisches Lied mit seiner tragenden Melodie Besinnung und Ruhe vermitteln
  will. Schwungvoll geht es dann weiter mit einem Gospel\, aber auch ein 
 „Neues Weihnachtslied“ wird der Chor in gewohnter A-capella-Art auffü
 hren.\nMit dabei sind in diesem Jahr auch die Funtastixx\, der groovige Ch
 or der Harmonie Fehlheim\, der ebenfalls eine gelungene Mischung aus Rock 
 und Pop passend zur Weihnachtszeit beisteuern wird. Nach dem großen Erfol
 g im vergangenen Jahr konnte wieder das Schlagzeugensemble der Musikschule
  für die Konzertreihe gewonnen werden.\nDie sphärischen Klänge von Mari
 mba und Vibraphon in der Schwanheimer Kirche haben im letzten Jahr auch di
 e Musiker selbst begeistert. Eine Auswahl an geeigneten und bewegenden St
 ücken soll in diesem Jahr wieder die Musik der beiden Chöre auf eindruck
 svolle Weise mit Marimba-Percussion bereichern.\nÜber eine Spende am Ende
  der Veranstaltung würden sich die beteiligten Formationen freuen. \n
CATEGORIES:Konzert
LOCATION:evangelische  Kirche\, Rohrheimer Str. 34\, Schwanheim\, 64625\, D
 eutschland
GEO:49.69717319999999;8.568373800000018
X-APPLE-STRUCTURED-LOCATION;VALUE=URI;X-ADDRESS=Rohrheimer Str. 34\, Schwan
 heim\, 64625\, Deutschland;X-APPLE-RADIUS=100;X-TITLE=evangelische  Kirche
 :geo:49.69717319999999,8.568373800000018
END:VEVENT
BEGIN:VTIMEZONE
TZID:Europe/Berlin
X-LIC-LOCATION:Europe/Berlin
BEGIN:STANDARD
DTSTART:20191027T020000
TZOFFSETFROM:+0200
TZOFFSETTO:+0100
TZNAME:CET
END:STANDARD
END:VTIMEZONE
END:VCALENDAR