BEGIN:VCALENDAR
VERSION:2.0
PRODID:-//wp-events-plugin.com//7.2.3.1//EN
TZID:Europe/Berlin
X-WR-TIMEZONE:Europe/Berlin
BEGIN:VEVENT
UID:1531@ev-kirchengemeinde-schwanheim.de
DTSTART;TZID=Europe/Berlin:20200913T100000
DTEND;TZID=Europe/Berlin:20200913T110000
DTSTAMP:20200906T214424Z
URL:https://www.ev-kirchengemeinde-schwanheim.de/terminkalender/kindergott
 esdienst-naturgottesdienst-das-gleichnis-vom-saemann
SUMMARY:Kindergottesdienst /Naturgottesdienst\, Thema:"Das Gleichnis vom S
 ämann" - Sportplatz - 13 Sep. 20 10:00
DESCRIPTION:
CATEGORIES:Gottesdienst
LOCATION:Sportplatz\, Zwingenberger Straße\, Zwingenberg-Rodau\, Deutschla
 nd
GEO:49.7197046;8.58154890000003
X-APPLE-STRUCTURED-LOCATION;VALUE=URI;X-ADDRESS=Zwingenberger Straße\, Zwi
 ngenberg-Rodau\, Deutschland;X-APPLE-RADIUS=100;X-TITLE=Sportplatz:geo:49.
 7197046,8.58154890000003
END:VEVENT
BEGIN:VTIMEZONE
TZID:Europe/Berlin
X-LIC-LOCATION:Europe/Berlin
BEGIN:DAYLIGHT
DTSTART:20200329T030000
TZOFFSETFROM:+0100
TZOFFSETTO:+0200
TZNAME:CEST
END:DAYLIGHT
END:VTIMEZONE
END:VCALENDAR