BEGIN:VCALENDAR
VERSION:2.0
PRODID:-//wp-events-plugin.com//7.2.3.1//EN
TZID:Europe/Berlin
X-WR-TIMEZONE:Europe/Berlin
BEGIN:VEVENT
UID:1089@ev-kirchengemeinde-schwanheim.de
DTSTART;TZID=Europe/Berlin:20171126T100000
DTEND;TZID=Europe/Berlin:20171126T110000
DTSTAMP:20171121T091935Z
URL:https://www.ev-kirchengemeinde-schwanheim.de/terminkalender/kindergott
 esdienst-30
SUMMARY:Kindergottesdienst - Evangelische Kirche Einhausen - 26 Nov. 17 10:
 00
DESCRIPTION:Am Sonntag\, 26.11. findet um 10 Uhr der nächste Gottesdienst 
 für Kinder im „Haus der Begegnung“\, Rohrheimer Str. 27 statt. In der
  Einladung dazu heißt es: Wir hören die Geschichte von Lenda\, einem seh
 r alten Hund\, und denken über das Leben und Sterben nach. Wie sieht es w
 ohl im Himmel aus? Was erfahren wir von Jesus dazu? Außerdem spielen und 
 singen wir gemeinsam. Eingeladen sind Kinder ab 3 Jahren.
CATEGORIES:Gottesdienst
LOCATION:Evangelische Kirche Einhausen\, Friedhofstr. 9\, Einhausen\, 64683
 \, Deutschland
GEO:49.69673;8.569727
X-APPLE-STRUCTURED-LOCATION;VALUE=URI;X-ADDRESS=Friedhofstr. 9\, Einhausen\
 , 64683\, Deutschland;X-APPLE-RADIUS=100;X-TITLE=Evangelische Kirche Einha
 usen:geo:49.69673,8.569727
END:VEVENT
BEGIN:VTIMEZONE
TZID:Europe/Berlin
X-LIC-LOCATION:Europe/Berlin
BEGIN:STANDARD
DTSTART:20171029T020000
TZOFFSETFROM:+0200
TZOFFSETTO:+0100
TZNAME:CET
END:STANDARD
END:VTIMEZONE
END:VCALENDAR