BEGIN:VCALENDAR
VERSION:2.0
PRODID:-//wp-events-plugin.com//7.2.3.1//EN
TZID:Europe/Berlin
X-WR-TIMEZONE:Europe/Berlin
BEGIN:VEVENT
UID:1051@ev-kirchengemeinde-schwanheim.de
DTSTART;TZID=Europe/Berlin:20171030T100000
DTEND;TZID=Europe/Berlin:20171030T110000
DTSTAMP:20170611T124934Z
URL:https://www.ev-kirchengemeinde-schwanheim.de/terminkalender/kerbgottes
 dienst-in-rodau-4
SUMMARY:Kerbgottesdienst in Rodau - Dorfgemeinschaftshaus - 30 Okt. 17 10:0
 0
DESCRIPTION:
CATEGORIES:Gottesdienst
LOCATION:Dorfgemeinschaftshaus\, Jägersburger Str.\, Zwingenberg\, Deutsch
 land
GEO:49.3453458;7.289581799999951
X-APPLE-STRUCTURED-LOCATION;VALUE=URI;X-ADDRESS=Jägersburger Str.\, Zwinge
 nberg\, Deutschland;X-APPLE-RADIUS=100;X-TITLE=Dorfgemeinschaftshaus:geo:4
 9.3453458,7.289581799999951
END:VEVENT
BEGIN:VTIMEZONE
TZID:Europe/Berlin
X-LIC-LOCATION:Europe/Berlin
BEGIN:STANDARD
DTSTART:20171029T020000
TZOFFSETFROM:+0200
TZOFFSETTO:+0100
TZNAME:CET
END:STANDARD
END:VTIMEZONE
END:VCALENDAR