BEGIN:VCALENDAR
VERSION:2.0
PRODID:-//wp-events-plugin.com//7.2.3.1//EN
TZID:Europe/Berlin
X-WR-TIMEZONE:Europe/Berlin
BEGIN:VEVENT
UID:1088@ev-kirchengemeinde-schwanheim.de
DTSTART;TZID=Europe/Berlin:20171115T190000
DTEND;TZID=Europe/Berlin:20171115T200000
DTSTAMP:20171111T103829Z
URL:https://www.ev-kirchengemeinde-schwanheim.de/terminkalender/info-abend
 -patientenverfuegung-und-betreuungsvollmacht
SUMMARY:Info Abend "Patientenverfügung und Betreuungsvollmacht - Evangelis
 che Kirche Einhausen - 15 Nov. 17 19:00
DESCRIPTION:Info-Abend in Schwanheim\n\nzum Thema: Patientenverfügung und 
 Betreuungsvollmacht\n\nAm Mittwoch\, 15.11. lädt die Evangelische Kirchen
 gemeinde Schwanheim um 19 Uhr zu einem Informationsabend ins „Haus der B
 egegnung“ in der Rohrheimerstrasse 27 ein.\n\nRechtsanwalt und Notar Arn
 o Gutsche aus Bensheim informiert über den Themenbereich „Patientenverf
 ügung und Betreuungsvollmacht“ und steht in der Aussprache für Fragen 
 zur Verfügung.\n\nViele Menschen machen sich Gedanken darüber\, was mit 
 ihnen wird\, wenn sie aus gesundheitlichen Gründen ganz auf die Betreuung
  Anderer angewiesen sind.\n\nHier gibt es gut erprobte und juristisch fest
 geschrieben Wege\, den Betreuenden Leitlinien an die Hand zu geben\, die d
 en Willen des zu betreuenden Menschen Ausdruck verleihen.\n\nDer Eintritt 
 ist frei\, alle Interessierten am Thema sind ganz herzlich zur Teilenahme 
 eingeladen.\n\nf.d.R.: Hans-Joachim Greifenstein
CATEGORIES:sonstige Veranstaltung
LOCATION:Evangelische Kirche Einhausen\, Friedhofstr. 9\, Einhausen\, 64683
 \, Deutschland
GEO:49.69673;8.569727
X-APPLE-STRUCTURED-LOCATION;VALUE=URI;X-ADDRESS=Friedhofstr. 9\, Einhausen\
 , 64683\, Deutschland;X-APPLE-RADIUS=100;X-TITLE=Evangelische Kirche Einha
 usen:geo:49.69673,8.569727
END:VEVENT
BEGIN:VTIMEZONE
TZID:Europe/Berlin
X-LIC-LOCATION:Europe/Berlin
BEGIN:STANDARD
DTSTART:20171029T020000
TZOFFSETFROM:+0200
TZOFFSETTO:+0100
TZNAME:CET
END:STANDARD
END:VTIMEZONE
END:VCALENDAR