BEGIN:VCALENDAR
VERSION:2.0
PRODID:-//wp-events-plugin.com//7.2.3.1//EN
TZID:Europe/Berlin
X-WR-TIMEZONE:Europe/Berlin
BEGIN:VEVENT
UID:1182@ev-kirchengemeinde-schwanheim.de
DTSTART;TZID=Europe/Berlin:20180819T101500
DTEND;TZID=Europe/Berlin:20180819T110000
DTSTAMP:20180808T183540Z
URL:https://www.ev-kirchengemeinde-schwanheim.de/terminkalender/gottesdien
 st-mit-taufe-zur-sichelhenk-unter-mitwirkung-der-kindergartenkinder
SUMMARY:Gottesdienst mit Taufe zur Sichelhenk unter Mitwirkung der Kinderga
 rtenkinder - Dorfgemeinschaftshaus - 19 Aug. 18 10:15
DESCRIPTION:
CATEGORIES:Gottesdienst
LOCATION:Dorfgemeinschaftshaus\, Weyrichstraße\, Bensheim-Schwanheim\, 646
 25\, Deutschland
GEO:49.70009;8.566559999999981
X-APPLE-STRUCTURED-LOCATION;VALUE=URI;X-ADDRESS=Weyrichstraße\, Bensheim-S
 chwanheim\, 64625\, Deutschland;X-APPLE-RADIUS=100;X-TITLE=Dorfgemeinschaf
 tshaus:geo:49.70009,8.566559999999981
END:VEVENT
BEGIN:VTIMEZONE
TZID:Europe/Berlin
X-LIC-LOCATION:Europe/Berlin
BEGIN:DAYLIGHT
DTSTART:20180325T030000
TZOFFSETFROM:+0100
TZOFFSETTO:+0200
TZNAME:CEST
END:DAYLIGHT
END:VTIMEZONE
END:VCALENDAR