BEGIN:VCALENDAR
VERSION:2.0
PRODID:-//wp-events-plugin.com//7.2.3.1//EN
TZID:Europe/Berlin
X-WR-TIMEZONE:Europe/Berlin
BEGIN:VEVENT
UID:1492@ev-kirchengemeinde-schwanheim.de
DTSTART;TZID=Europe/Berlin:20200906T101500
DTEND;TZID=Europe/Berlin:20200906T110000
DTSTAMP:20200804T194827Z
URL:https://www.ev-kirchengemeinde-schwanheim.de/terminkalender/gottesdien
 st-mit-einfuehrung-der-konfirmanden
SUMMARY:Gottesdienst mit Einführung der Konfirmanden - ev. Kirche - 6 Sep.
  20 10:15
DESCRIPTION:
CATEGORIES:Gottesdienst
LOCATION:ev. Kirche\, Friedhofstr. \, Einhausen\, Deutschland
GEO:49.67496000000001;8.548080000000027
X-APPLE-STRUCTURED-LOCATION;VALUE=URI;X-ADDRESS=Friedhofstr. \, Einhausen\,
  Deutschland;X-APPLE-RADIUS=100;X-TITLE=ev. Kirche:geo:49.67496000000001,8
 .548080000000027
END:VEVENT
BEGIN:VTIMEZONE
TZID:Europe/Berlin
X-LIC-LOCATION:Europe/Berlin
BEGIN:DAYLIGHT
DTSTART:20200329T030000
TZOFFSETFROM:+0100
TZOFFSETTO:+0200
TZNAME:CEST
END:DAYLIGHT
END:VTIMEZONE
END:VCALENDAR