BEGIN:VCALENDAR
VERSION:2.0
PRODID:-//wp-events-plugin.com//7.2.3.1//EN
TZID:Europe/Berlin
X-WR-TIMEZONE:Europe/Berlin
BEGIN:VEVENT
UID:1292@ev-kirchengemeinde-schwanheim.de
DTSTART;TZID=Europe/Berlin:20190530T100000
DTEND;TZID=Europe/Berlin:20190530T110000
DTSTAMP:20190125T211057Z
URL:https://www.ev-kirchengemeinde-schwanheim.de/terminkalender/gottesdien
 st-an-himmelfahrt-in-lorsch-2
SUMMARY:Gottesdienst an Himmelfahrt in Lorsch - Ev. Kirche Pfarrgarten - 30
  Mai 19 10:00
DESCRIPTION:
CATEGORIES:Gottesdienst
LOCATION:Ev. Kirche Pfarrgarten\, Nibelungenstr.\, Lorsch\, Hessen\, 64653\
 , Deutschland
GEO:49.6529812;8.556028200000014
X-APPLE-STRUCTURED-LOCATION;VALUE=URI;X-ADDRESS=Nibelungenstr.\, Lorsch\, H
 essen\, 64653\, Deutschland;X-APPLE-RADIUS=100;X-TITLE=Ev. Kirche Pfarrgar
 ten:geo:49.6529812,8.556028200000014
END:VEVENT
BEGIN:VTIMEZONE
TZID:Europe/Berlin
X-LIC-LOCATION:Europe/Berlin
BEGIN:DAYLIGHT
DTSTART:20190331T030000
TZOFFSETFROM:+0100
TZOFFSETTO:+0200
TZNAME:CEST
END:DAYLIGHT
END:VTIMEZONE
END:VCALENDAR