BEGIN:VCALENDAR
VERSION:2.0
PRODID:-//wp-events-plugin.com//7.2.3.1//EN
TZID:Europe/Berlin
X-WR-TIMEZONE:Europe/Berlin
BEGIN:VEVENT
UID:2018@ev-kirchengemeinde-schwanheim.de
DTSTART;TZID=Europe/Berlin:20250529T100000
DTEND;TZID=Europe/Berlin:20250529T110000
DTSTAMP:20250203T213146Z
URL:https://www.ev-kirchengemeinde-schwanheim.de/terminkalender/gottesdien
 st-an-himmelfahrt-3
SUMMARY:Gottesdienst an Himmelfahrt - ev. Kirche (Pfarrgarten) - 29 Mai 25 
 10:00
DESCRIPTION:
CATEGORIES:Gottesdienst
LOCATION:ev. Kirche (Pfarrgarten)\, Neckarstr.\, Lorsch\, 64653\, Deutschla
 nd
GEO:49.6510898;8.56506139999999
X-APPLE-STRUCTURED-LOCATION;VALUE=URI;X-ADDRESS=Neckarstr.\, Lorsch\, 64653
 \, Deutschland;X-APPLE-RADIUS=100;X-TITLE=ev. Kirche (Pfarrgarten):geo:49.
 6510898,8.56506139999999
END:VEVENT
BEGIN:VTIMEZONE
TZID:Europe/Berlin
X-LIC-LOCATION:Europe/Berlin
BEGIN:DAYLIGHT
DTSTART:20250330T030000
TZOFFSETFROM:+0100
TZOFFSETTO:+0200
TZNAME:CEST
END:DAYLIGHT
END:VTIMEZONE
END:VCALENDAR