BEGIN:VCALENDAR
VERSION:2.0
PRODID:-//wp-events-plugin.com//7.2.3.1//EN
TZID:Europe/Berlin
X-WR-TIMEZONE:Europe/Berlin
BEGIN:VEVENT
UID:1216@ev-kirchengemeinde-schwanheim.de
DTSTART;TZID=Europe/Berlin:20181209T101500
DTEND;TZID=Europe/Berlin:20181209T110000
DTSTAMP:20181029T072021Z
URL:https://www.ev-kirchengemeinde-schwanheim.de/terminkalender/gottesdien
 st-am-2-advent-gestaltet-vom-frauenkreis
SUMMARY:Gottesdienst am 2. Advent gestaltet vom Frauenkreis - evangelische 
  Kirche - 9 Dez. 18 10:15
DESCRIPTION:Frauen aus unserer Kirchengemeinde gestalten diesen ganz besond
 eren Gottesdienst auf andere Art als sonst üblich.
CATEGORIES:Gottesdienst
LOCATION:evangelische  Kirche\, Rohrheimer Str. 34\, Schwanheim\, 64625\, D
 eutschland
GEO:49.69717319999999;8.568373800000018
X-APPLE-STRUCTURED-LOCATION;VALUE=URI;X-ADDRESS=Rohrheimer Str. 34\, Schwan
 heim\, 64625\, Deutschland;X-APPLE-RADIUS=100;X-TITLE=evangelische  Kirche
 :geo:49.69717319999999,8.568373800000018
END:VEVENT
BEGIN:VTIMEZONE
TZID:Europe/Berlin
X-LIC-LOCATION:Europe/Berlin
BEGIN:STANDARD
DTSTART:20181028T020000
TZOFFSETFROM:+0200
TZOFFSETTO:+0100
TZNAME:CET
END:STANDARD
END:VTIMEZONE
END:VCALENDAR