BEGIN:VCALENDAR
VERSION:2.0
PRODID:-//wp-events-plugin.com//7.2.3.1//EN
TZID:Europe/Berlin
X-WR-TIMEZONE:Europe/Berlin
BEGIN:VEVENT
UID:1536@ev-kirchengemeinde-schwanheim.de
DTSTART;TZID=Europe/Berlin:20201224T160000
DTEND;TZID=Europe/Berlin:20201224T170000
DTSTAMP:20201220T104805Z
URL:https://www.ev-kirchengemeinde-schwanheim.de/terminkalender/familiengo
 ttesdienst-im-freien
SUMMARY:Familiengottesdienst im Freien - Sportplatz Schwanheim - 24 Dez. 20
  16:00
DESCRIPTION:Onlineanmeldung:\n\nhttps://kircheeinhausen.church-events.de">h
 ttps://kircheeinhausen.church-events.de\n
CATEGORIES:Gottesdienst
LOCATION:Sportplatz Schwanheim\, Außerhalb\, Bensheim\, 64625\, Deutschlan
 d
X-APPLE-STRUCTURED-LOCATION;VALUE=URI;X-ADDRESS=Außerhalb\, Bensheim\, 646
 25\, Deutschland;X-APPLE-RADIUS=100;X-TITLE=Sportplatz Schwanheim:geo:0,0
END:VEVENT
BEGIN:VTIMEZONE
TZID:Europe/Berlin
X-LIC-LOCATION:Europe/Berlin
BEGIN:STANDARD
DTSTART:20201025T020000
TZOFFSETFROM:+0200
TZOFFSETTO:+0100
TZNAME:CET
END:STANDARD
END:VTIMEZONE
END:VCALENDAR