BEGIN:VCALENDAR
VERSION:2.0
PRODID:-//wp-events-plugin.com//7.2.3.1//EN
TZID:Europe/Berlin
X-WR-TIMEZONE:Europe/Berlin
BEGIN:VEVENT
UID:1011@ev-kirchengemeinde-schwanheim.de
DTSTART;TZID=Europe/Berlin:20171001T101500
DTEND;TZID=Europe/Berlin:20171001T110000
DTSTAMP:20170925T214228Z
URL:https://www.ev-kirchengemeinde-schwanheim.de/terminkalender/erntedankg
 ottesdienst-anschliessend-fruehschoppen-rund-um-die-kersch
SUMMARY:Erntedankgottesdienst\, anschließend Frühschoppen "rund um die Ke
 rsch" - evangelische  Kirche - 1 Okt. 17 10:15
DESCRIPTION:Am Sonntag\, 1.10.\, wird in Schwanheim Erntedank gefeiert. Und
  zwar richtig. Samstags ziehen die Konfirmand*innen durchs Dorf\, um Ernte
 gaben für den Altar zu sammeln. Am Sonntag beginnt der Gottesdienst um 10
 .15 Uhr mit dem Kindergarten\, einer Taufe\, einem Agapemahl und der Musik
  von Orgel und KKMV Fehlheim begleitet. Danach geht es mit Musik ins Haus 
 der Begegnung\, wo es Weck\, Worscht\, Bier und Limo und dazu noch Dickeba
 cke-Musik gibt. Herzliche Einladung!!!
CATEGORIES:Gottesdienst
LOCATION:evangelische  Kirche\, Rohrheimer Str. 34\, Schwanheim\, 64625\, D
 eutschland
GEO:49.69717319999999;8.568373800000018
X-APPLE-STRUCTURED-LOCATION;VALUE=URI;X-ADDRESS=Rohrheimer Str. 34\, Schwan
 heim\, 64625\, Deutschland;X-APPLE-RADIUS=100;X-TITLE=evangelische  Kirche
 :geo:49.69717319999999,8.568373800000018
END:VEVENT
BEGIN:VTIMEZONE
TZID:Europe/Berlin
X-LIC-LOCATION:Europe/Berlin
BEGIN:DAYLIGHT
DTSTART:20170326T030000
TZOFFSETFROM:+0100
TZOFFSETTO:+0200
TZNAME:CEST
END:DAYLIGHT
END:VTIMEZONE
END:VCALENDAR