BEGIN:VCALENDAR
VERSION:2.0
PRODID:-//wp-events-plugin.com//7.2.3.1//EN
TZID:Europe/Berlin
X-WR-TIMEZONE:Europe/Berlin
BEGIN:VEVENT
UID:1750@ev-kirchengemeinde-schwanheim.de
DTSTART;TZID=Europe/Berlin:20221224T170000
DTEND;TZID=Europe/Berlin:20221224T180000
DTSTAMP:20221222T141026Z
URL:https://www.ev-kirchengemeinde-schwanheim.de/terminkalender/christvesp
 er-3
SUMMARY:Christvesper - Kapelle - 24 Dez. 22 17:00
DESCRIPTION:In Rodau wird am Heiligabend um 17:00 Uhr in der Kapelle Gottes
 dienst mit Prädikantin Bärbel Andreas-Sillus und Emanuel Fuchs an der Or
 gel gefeiert.\n
CATEGORIES:Gottesdienst
LOCATION:Kapelle\, Rodauer Str. \, Zwingenberg - Rodau\, Hessen\, 64673\, D
 eutschland
GEO:49.71906;8.58139
X-APPLE-STRUCTURED-LOCATION;VALUE=URI;X-ADDRESS=Rodauer Str. \, Zwingenberg
  - Rodau\, Hessen\, 64673\, Deutschland;X-APPLE-RADIUS=100;X-TITLE=Kapelle
 :geo:49.71906,8.58139
END:VEVENT
BEGIN:VTIMEZONE
TZID:Europe/Berlin
X-LIC-LOCATION:Europe/Berlin
BEGIN:STANDARD
DTSTART:20221030T020000
TZOFFSETFROM:+0200
TZOFFSETTO:+0100
TZNAME:CET
END:STANDARD
END:VTIMEZONE
END:VCALENDAR