BEGIN:VCALENDAR
VERSION:2.0
PRODID:-//wp-events-plugin.com//7.2.3.1//EN
TZID:Europe/Berlin
X-WR-TIMEZONE:Europe/Berlin
BEGIN:VEVENT
UID:1972@ev-kirchengemeinde-schwanheim.de
DTSTART;TZID=Europe/Berlin:20241231T190000
DTEND;TZID=Europe/Berlin:20241231T200000
DTSTAMP:20241123T200213Z
URL:https://www.ev-kirchengemeinde-schwanheim.de/terminkalender/altjahresg
 ottesdienst-5
SUMMARY:Altjahresgottesdienst - Ev. Kirche  - 31 Dez. 24 19:00
DESCRIPTION:
CATEGORIES:Gottesdienst
LOCATION:Ev. Kirche \, Rohrheimerstr.\, Bensheim-Schwanheim\, Hessen\, 6462
 5\, Deutschland
X-APPLE-STRUCTURED-LOCATION;VALUE=URI;X-ADDRESS=Rohrheimerstr.\, Bensheim-S
 chwanheim\, Hessen\, 64625\, Deutschland;X-APPLE-RADIUS=100;X-TITLE=Ev. Ki
 rche :geo:0,0
END:VEVENT
BEGIN:VTIMEZONE
TZID:Europe/Berlin
X-LIC-LOCATION:Europe/Berlin
BEGIN:STANDARD
DTSTART:20241027T020000
TZOFFSETFROM:+0200
TZOFFSETTO:+0100
TZNAME:CET
END:STANDARD
END:VTIMEZONE
END:VCALENDAR